BEGIN:VCALENDAR
VERSION:2.0
PRODID:-//wp-events-plugin.com//7.2.3.1//EN
TZID:Europe/Berlin
X-WR-TIMEZONE:Europe/Berlin
BEGIN:VEVENT
UID:3909@duesseldorf.fau.org
DTSTART;TZID=Europe/Berlin:20260321T160000
DTEND;TZID=Europe/Berlin:20260321T183000
DTSTAMP:20260318T101846Z
URL:https://duesseldorf.fau.org/events/das-erste-mal-anarchie-und-zeitmana
 gement/
SUMMARY:Das erste Mal: Anarchie und Zeitmanagement
DESCRIPTION:Ort: Kiefernstraße 35\, 40223 Düsseldorf\n\nEntdecke\, warum 
 Selbstorganisation kein Widerspruch zur Anarchie ist\, sondern ihr eigentl
 icher Motor.\nIn diesem Vortrag zeigen wir\, wie eigenverantwortliche Plan
 ung und klare Zielsetzung es ermöglichen\, individuelle Projekte und koll
 ektive Aktionen effektiv voranzutreiben – ohne Hierarchien\, ohne fremde
  Vorgaben.\nLerne praxisnahe Methoden kennen\, die Freiheit mit produktive
 r Umsetzung verbinden\, und erfahre\, wie du deine Ideen nachhaltig verwir
 klichen kannst\, während du den anarchistischen Grundprinzipien treu blei
 bst.\n\n
CATEGORIES:FAU Düsseldorf,FAUD,FAUD-Akademie,gemütliches
 beisammensein,offene Diskussion,selbstorganisiertes Lernen,Vortrag
END:VEVENT
BEGIN:VTIMEZONE
TZID:Europe/Berlin
X-LIC-LOCATION:Europe/Berlin
BEGIN:STANDARD
DTSTART:20251026T020000
TZOFFSETFROM:+0200
TZOFFSETTO:+0100
TZNAME:CET
END:STANDARD
END:VTIMEZONE
END:VCALENDAR